BEGIN:VCALENDAR
VERSION:2.0
PRODID:https://www.kufer.de/kuferweb / DE
METHOD:PUBLISH
CALSCALE:GREGORIAN
X-WR-TIMEZONE:Europe/Berlin
BEGIN:VTIMEZONE
TZID:Europe/Berlin
X-LIC-LOCATION:Europe/Berlin
BEGIN:DAYLIGHT
TZOFFSETFROM:+0100
TZOFFSETTO:+0200
TZNAME:CEST
DTSTART:19700329T020000
RRULE:FREQ=YEARLY;INTERVAL=1;BYDAY=-1SU;BYMONTH=3
END:DAYLIGHT
BEGIN:STANDARD
TZOFFSETFROM:+0200
TZOFFSETTO:+0100
TZNAME:CET
DTSTART:19701025T030000
RRULE:FREQ=YEARLY;INTERVAL=1;BYDAY=-1SU;BYMONTH=10
END:STANDARD
END:VTIMEZONE
BEGIN:VEVENT
DTSTAMP:20260425T153039
DTSTART;TZID=Europe/Berlin:20260507T181500
DTEND;TZID=Europe/Berlin:20260507T194500
UID:AT1247-20260507T181500@VHSGIESSEN
SUMMARY:Meine persönlichen Daten – Wie kann ich feststellen, wer welche Daten von mir hat und was damit gemacht wird? (AT1247) 
LOCATION:Volkshochschule Gießen, Raum Schwanenteich (barrierefreier Zugang), Fröbelstr. 65, 35394 Gießen
END:VEVENT
END:VCALENDAR